BEGIN:VCALENDAR
VERSION:2.0
PRODID:-//Siouxland Humane Society - ECPv6.15.20//NONSGML v1.0//EN
CALSCALE:GREGORIAN
METHOD:PUBLISH
X-WR-CALNAME:Siouxland Humane Society
X-ORIGINAL-URL:https://www.siouxlandhumanesociety.org
X-WR-CALDESC:Events for Siouxland Humane Society
REFRESH-INTERVAL;VALUE=DURATION:PT1H
X-Robots-Tag:noindex
X-PUBLISHED-TTL:PT1H
BEGIN:VTIMEZONE
TZID:America/Chicago
BEGIN:DAYLIGHT
TZOFFSETFROM:-0600
TZOFFSETTO:-0500
TZNAME:CDT
DTSTART:20230312T080000
END:DAYLIGHT
BEGIN:STANDARD
TZOFFSETFROM:-0500
TZOFFSETTO:-0600
TZNAME:CST
DTSTART:20231105T070000
END:STANDARD
BEGIN:DAYLIGHT
TZOFFSETFROM:-0600
TZOFFSETTO:-0500
TZNAME:CDT
DTSTART:20240310T080000
END:DAYLIGHT
BEGIN:STANDARD
TZOFFSETFROM:-0500
TZOFFSETTO:-0600
TZNAME:CST
DTSTART:20241103T070000
END:STANDARD
BEGIN:DAYLIGHT
TZOFFSETFROM:-0600
TZOFFSETTO:-0500
TZNAME:CDT
DTSTART:20250309T080000
END:DAYLIGHT
BEGIN:STANDARD
TZOFFSETFROM:-0500
TZOFFSETTO:-0600
TZNAME:CST
DTSTART:20251102T070000
END:STANDARD
END:VTIMEZONE
BEGIN:VEVENT
DTSTART;TZID=America/Chicago:20241102T110000
DTEND;TZID=America/Chicago:20241102T140000
DTSTAMP:20260423T033641
CREATED:20241003T211514Z
LAST-MODIFIED:20241003T213408Z
UID:24450-1730545200-1730556000@www.siouxlandhumanesociety.org
SUMMARY:Petco Offsite Adoption Event
DESCRIPTION:Are you looking for your fur-loving companion. Friend for life? We always have a great selection of dogs and cats at Petco! Also\, remember that we have cats at Petco daily for your viewing and adoption. Come find your purrfect loving snuggle\, cuddle companion or walking buddy! Your forever friend for life. \nSaturday you can find us at the Petco store on Hamilton Boulevard from 11 am-2 pm.\nAll adoptions include initial preventative vaccinations\, deworming\, microchipping\, and a free veterinary health examination. \nPlease stop by and check out the great selection of pets available and consider adopting your new best friend! Stop by\, shop\, say hello\, and adopt! We hope to see you there!
URL:https://www.siouxlandhumanesociety.org/event/petco-offsite-adoption-event-51/
LOCATION:Siouxland Humane Society\, 1015 Tri-View Avenue\, Sioux City\, 51103\, United States
CATEGORIES:Off-Site Adoptions
ATTACH;FMTTYPE=image/png:https://www.siouxlandhumanesociety.org/wp-content/uploads/2024/10/Untitled-design-2024-10-03T151430.416-e1727990090457.png
END:VEVENT
BEGIN:VEVENT
DTSTART;VALUE=DATE:20241115
DTEND;VALUE=DATE:20241209
DTSTAMP:20260423T033641
CREATED:20241115T184554Z
LAST-MODIFIED:20241115T184554Z
UID:24555-1731628800-1733702399@www.siouxlandhumanesociety.org
SUMMARY:Merry Scratchmas!
DESCRIPTION:Rocking around the Scratchmas Tree! Our Merry Scratchmas” raffle is back this year and even better than last year! We have over 100 tickets and total winnings of up to $2.8 million! There’s never been a better reason to test your luck\, because every ticket sold\, supports our animals in need\, so spread some cheer and grab yours today! tickets are on sale now! Get your tickets at Paws N’ Claus or you can purchase at the link http://bidpal.net/pawsnclaus you can also email maddy@siouxlandhumanesociety.org tickets will be on sale through December 8th and the drawing will be December 9th. Good luck!
URL:https://www.siouxlandhumanesociety.org/event/merry-scratchmas/
LOCATION:IA
CATEGORIES:Fundraisers
ATTACH;FMTTYPE=image/jpeg:https://www.siouxlandhumanesociety.org/wp-content/uploads/2024/11/tree-scaled-e1731696045220.jpeg
ORGANIZER;CN="Maddy Provost":MAILTO:maddy@siouxlandhumanesociety.org
END:VEVENT
BEGIN:VEVENT
DTSTART;TZID=America/Chicago:20241116T110000
DTEND;TZID=America/Chicago:20241116T140000
DTSTAMP:20260423T033641
CREATED:20241003T212027Z
LAST-MODIFIED:20241003T213104Z
UID:24453-1731754800-1731765600@www.siouxlandhumanesociety.org
SUMMARY:Southern Hills Mall Offsite Adoption Event
DESCRIPTION:Check us out at the Southern Hills Mall and find your fur- loving friend\, soul-mate or companion! Always a great selection of puppies\, dogs\, kittens and cats to choose from! You will find us at the Southern Hills Mall center court from 11am to 2pm. \nAll adoptions include initial preventative vaccinations\, deworming\, microchipping\, and a free veterinary health examination. \nPlease stop by\, check out the great selection of pets available and consider adopting your new best friend!
URL:https://www.siouxlandhumanesociety.org/event/southern-hills-mall-offsite-adoption-event-46/
LOCATION:Southern Hills Mall\, 4400 Sergeant Rd\, Sioux City\, IA\, 51106\, United States
CATEGORIES:Off-Site Adoptions
ATTACH;FMTTYPE=image/png:https://www.siouxlandhumanesociety.org/wp-content/uploads/2024/10/Untitled-design-2024-10-03T153526.412-e1727990409931.png
END:VEVENT
BEGIN:VEVENT
DTSTART;TZID=America/Chicago:20241120T160000
DTEND;TZID=America/Chicago:20241120T170000
DTSTAMP:20260423T033641
CREATED:20241003T211017Z
LAST-MODIFIED:20241003T211017Z
UID:24448-1732118400-1732122000@www.siouxlandhumanesociety.org
SUMMARY:New Volunteer Orientation
DESCRIPTION:This orientation is for our In-Shelter Animal Care such as walking dogs\, socialization of cats or bathing and grooming animals. Once you sign up to become a volunteer you can login to the Volunteer Information Center to sign up for the volunteer orientation. Limited space available so sign up today! \n(To sign up to become a volunteer click HERE)
URL:https://www.siouxlandhumanesociety.org/event/new-volunteer-orientation-40/
LOCATION:Siouxland Humane Society\, 1015 Tri-View Avenue\, Sioux City\, 51103\, United States
CATEGORIES:Volunteer Orientations
ATTACH;FMTTYPE=image/jpeg:https://www.siouxlandhumanesociety.org/wp-content/uploads/2024/06/volunteer.jpg
END:VEVENT
BEGIN:VEVENT
DTSTART;TZID=America/Chicago:20241120T173000
DTEND;TZID=America/Chicago:20241120T203000
DTSTAMP:20260423T033641
CREATED:20241029T120301Z
LAST-MODIFIED:20241029T121200Z
UID:24465-1732123800-1732134600@www.siouxlandhumanesociety.org
SUMMARY:Paws N' Claus
DESCRIPTION:Get ready to capture the joy of the holiday season with your pets at the Paws ‘N Claus wintertime photoshoot! From November 20th to November 24th\, join us in Suite 109 at the Ho Chunk Center\, located at 600 4th St\, for a festive experience you and your furry friends won’t want to miss. Whether you’re looking to create a lasting holiday card or simply want to capture some precious moments\, this event is the perfect opportunity. \nFor just $35\, enjoy a professional\, heartwarming photo session\, and walk away with an SD card of your photos to cherish forever. Your pets are more than welcome to join in the fun—whether they decide to sit still for pictures or their shots are in motion\, it’s sure to be a memorable shoot! \nIn addition to the photoshoot\, there will be raffles and a wide selection of holiday themed retail items so you can find the purr-fect Christmas gift for your furry friend! From toys and treats to winter accessories\, you’re bound to find something special! \nMost importantly\, all proceeds from the event go directly to helping shelter animals in need. By attending Paws N Claus\, you’re not just creating magical memories—you’re making a difference in the lives of pets waiting for their forever homes. \nJoin us for this pawsome event and spread holiday cheer while supporting a wonderful cause! To book your session click HERE \nFor questions contact Maddy at 712-252-2614 EXT. 16 or email maddy@siouxlandhumanesociety.org
URL:https://www.siouxlandhumanesociety.org/event/paws-n-claus-50/
LOCATION:Ho-Chunk Centre\, 600 4th Street\, Sioux City\, IA\, 51101\, United States
CATEGORIES:Fundraisers
ATTACH;FMTTYPE=image/png:https://www.siouxlandhumanesociety.org/wp-content/uploads/2024/10/Logo-e1730202865117.png
ORGANIZER;CN="Maddy Provost":MAILTO:maddy@siouxlandhumanesociety.org
END:VEVENT
BEGIN:VEVENT
DTSTART;TZID=America/Chicago:20241121T173000
DTEND;TZID=America/Chicago:20241121T203000
DTSTAMP:20260423T033641
CREATED:20241029T120549Z
LAST-MODIFIED:20241029T121148Z
UID:24467-1732210200-1732221000@www.siouxlandhumanesociety.org
SUMMARY:Paws N' Claus
DESCRIPTION:Get ready to capture the joy of the holiday season with your pets at the Paws ‘N Claus wintertime photoshoot! From November 20th to November 24th\, join us in Suite 109 at the Ho Chunk Center\, located at 600 4th St\, for a festive experience you and your furry friends won’t want to miss. Whether you’re looking to create a lasting holiday card or simply want to capture some precious moments\, this event is the perfect opportunity. \nFor just $35\, enjoy a professional\, heartwarming photo session\, and walk away with an SD card of your photos to cherish forever. Your pets are more than welcome to join in the fun—whether they decide to sit still for pictures or their shots are in motion\, it’s sure to be a memorable shoot! \nIn addition to the photoshoot\, there will be raffles and a wide selection of holiday themed retail items so you can find the purr-fect Christmas gift for your furry friend! From toys and treats to winter accessories\, you’re bound to find something special! \nMost importantly\, all proceeds from the event go directly to helping shelter animals in need. By attending Paws N Claus\, you’re not just creating magical memories—you’re making a difference in the lives of pets waiting for their forever homes. \nJoin us for this pawsome event and spread holiday cheer while supporting a wonderful cause! To book your session click HERE \nFor questions contact Maddy at 712-252-2614 EXT. 16 or email maddy@siouxlandhumanesociety.org
URL:https://www.siouxlandhumanesociety.org/event/paws-n-claus-51/
LOCATION:Ho-Chunk Centre\, 600 4th Street\, Sioux City\, IA\, 51101\, United States
CATEGORIES:Fundraisers
ATTACH;FMTTYPE=image/png:https://www.siouxlandhumanesociety.org/wp-content/uploads/2024/10/Logo-e1730202865117.png
ORGANIZER;CN="Maddy Provost":MAILTO:maddy@siouxlandhumanesociety.org
END:VEVENT
BEGIN:VEVENT
DTSTART;TZID=America/Chicago:20241122T173000
DTEND;TZID=America/Chicago:20241122T203000
DTSTAMP:20260423T033641
CREATED:20241029T120821Z
LAST-MODIFIED:20241029T121137Z
UID:24468-1732296600-1732307400@www.siouxlandhumanesociety.org
SUMMARY:Paws N' Claus
DESCRIPTION:Get ready to capture the joy of the holiday season with your pets at the Paws ‘N Claus wintertime photoshoot! From November 20th to November 24th\, join us in Suite 109 at the Ho Chunk Center\, located at 600 4th St\, for a festive experience you and your furry friends won’t want to miss. Whether you’re looking to create a lasting holiday card or simply want to capture some precious moments\, this event is the perfect opportunity. \nFor just $35\, enjoy a professional\, heartwarming photo session\, and walk away with an SD card of your photos to cherish forever. Your pets are more than welcome to join in the fun—whether they decide to sit still for pictures or their shots are in motion\, it’s sure to be a memorable shoot! \nIn addition to the photoshoot\, there will be raffles and a wide selection of holiday themed retail items so you can find the purr-fect Christmas gift for your furry friend! From toys and treats to winter accessories\, you’re bound to find something special! \nMost importantly\, all proceeds from the event go directly to helping shelter animals in need. By attending Paws N Claus\, you’re not just creating magical memories—you’re making a difference in the lives of pets waiting for their forever homes. \nJoin us for this pawsome event and spread holiday cheer while supporting a wonderful cause! To book your session click HERE \nFor questions contact Maddy at 712-252-2614 EXT. 16 or email maddy@siouxlandhumanesociety.org
URL:https://www.siouxlandhumanesociety.org/event/paws-n-claus-52/
LOCATION:Ho-Chunk Centre\, 600 4th Street\, Sioux City\, IA\, 51101\, United States
CATEGORIES:Fundraisers
ATTACH;FMTTYPE=image/png:https://www.siouxlandhumanesociety.org/wp-content/uploads/2024/10/Logo-e1730202865117.png
ORGANIZER;CN="Maddy Provost":MAILTO:maddy@siouxlandhumanesociety.org
END:VEVENT
BEGIN:VEVENT
DTSTART;TZID=America/Chicago:20241123T100000
DTEND;TZID=America/Chicago:20241123T170000
DTSTAMP:20260423T033641
CREATED:20241029T120939Z
LAST-MODIFIED:20241029T121126Z
UID:24469-1732356000-1732381200@www.siouxlandhumanesociety.org
SUMMARY:Paws N' Claus
DESCRIPTION:Get ready to capture the joy of the holiday season with your pets at the Paws ‘N Claus wintertime photoshoot! From November 20th to November 24th\, join us in Suite 109 at the Ho Chunk Center\, located at 600 4th St\, for a festive experience you and your furry friends won’t want to miss. Whether you’re looking to create a lasting holiday card or simply want to capture some precious moments\, this event is the perfect opportunity. \nFor just $35\, enjoy a professional\, heartwarming photo session\, and walk away with an SD card of your photos to cherish forever. Your pets are more than welcome to join in the fun—whether they decide to sit still for pictures or their shots are in motion\, it’s sure to be a memorable shoot! \nIn addition to the photoshoot\, there will be raffles and a wide selection of holiday themed retail items so you can find the purr-fect Christmas gift for your furry friend! From toys and treats to winter accessories\, you’re bound to find something special! \nMost importantly\, all proceeds from the event go directly to helping shelter animals in need. By attending Paws N Claus\, you’re not just creating magical memories—you’re making a difference in the lives of pets waiting for their forever homes. \nJoin us for this pawsome event and spread holiday cheer while supporting a wonderful cause! To book your session click HERE \nFor questions contact Maddy at 712-252-2614 EXT. 16 or email maddy@siouxlandhumanesociety.org
URL:https://www.siouxlandhumanesociety.org/event/paws-n-claus-53/
LOCATION:Ho-Chunk Centre\, 600 4th Street\, Sioux City\, IA\, 51101\, United States
CATEGORIES:Fundraisers
ATTACH;FMTTYPE=image/png:https://www.siouxlandhumanesociety.org/wp-content/uploads/2024/10/Logo-e1730202865117.png
ORGANIZER;CN="Maddy Provost":MAILTO:maddy@siouxlandhumanesociety.org
END:VEVENT
BEGIN:VEVENT
DTSTART;TZID=America/Chicago:20241124T100000
DTEND;TZID=America/Chicago:20241124T170000
DTSTAMP:20260423T033641
CREATED:20241029T121114Z
LAST-MODIFIED:20241029T121114Z
UID:24470-1732442400-1732467600@www.siouxlandhumanesociety.org
SUMMARY:Paws N' Claus
DESCRIPTION:Get ready to capture the joy of the holiday season with your pets at the Paws ‘N Claus wintertime photoshoot! From November 20th to November 24th\, join us in Suite 109 at the Ho Chunk Center\, located at 600 4th St\, for a festive experience you and your furry friends won’t want to miss. Whether you’re looking to create a lasting holiday card or simply want to capture some precious moments\, this event is the perfect opportunity. \nFor just $35\, enjoy a professional\, heartwarming photo session\, and walk away with an SD card of your photos to cherish forever. Your pets are more than welcome to join in the fun—whether they decide to sit still for pictures or their shots are in motion\, it’s sure to be a memorable shoot! \nIn addition to the photoshoot\, there will be raffles and a wide selection of holiday themed retail items so you can find the purr-fect Christmas gift for your furry friend! From toys and treats to winter accessories\, you’re bound to find something special! \nMost importantly\, all proceeds from the event go directly to helping shelter animals in need. By attending Paws N Claus\, you’re not just creating magical memories—you’re making a difference in the lives of pets waiting for their forever homes. \nJoin us for this pawsome event and spread holiday cheer while supporting a wonderful cause! To book your session click HERE \nFor questions contact Maddy at 712-252-2614 EXT. 16 or email maddy@siouxlandhumanesociety.org
URL:https://www.siouxlandhumanesociety.org/event/paws-n-claus-54/
LOCATION:Ho-Chunk Centre\, 600 4th Street\, Sioux City\, IA\, 51101\, United States
CATEGORIES:Fundraisers
ATTACH;FMTTYPE=image/png:https://www.siouxlandhumanesociety.org/wp-content/uploads/2024/10/Logo-e1730202865117.png
ORGANIZER;CN="Maddy Provost":MAILTO:maddy@siouxlandhumanesociety.org
END:VEVENT
END:VCALENDAR